BEGIN:VCALENDAR
VERSION:2.0
PRODID:-//art Kapella Schkeuditz - ECPv6.15.20//NONSGML v1.0//EN
CALSCALE:GREGORIAN
METHOD:PUBLISH
X-WR-CALNAME:art Kapella Schkeuditz
X-ORIGINAL-URL:http://artkapella.de
X-WR-CALDESC:Veranstaltungen für art Kapella Schkeuditz
REFRESH-INTERVAL;VALUE=DURATION:PT1H
X-Robots-Tag:noindex
X-PUBLISHED-TTL:PT1H
BEGIN:VTIMEZONE
TZID:UTC
BEGIN:STANDARD
TZOFFSETFROM:+0000
TZOFFSETTO:+0000
TZNAME:UTC
DTSTART:20230101T000000
END:STANDARD
END:VTIMEZONE
BEGIN:VEVENT
DTSTART;TZID=UTC:20240609T170000
DTEND;TZID=UTC:20240609T193000
DTSTAMP:20260423T151016
CREATED:20240528T195123Z
LAST-MODIFIED:20240602T093529Z
UID:5087-1717952400-1717961400@artkapella.de
SUMMARY:Konzert mit »Mehr Als Wir«
DESCRIPTION:Matthias Ehrig (Akustikgitarre\, E-Gitarre\, Stompbox) und Andreas Uhlmann (Posaune\, Flügelhorn\, Glockenspiel\, Beatbox\, Synthesizer) sind »Mehr Als Wir«. \nDer Bandname ist ein Versprechen. Über Loop-Techniken und ausgefuchste Arrangements erzeugen die beiden Musiker einen unerwartet vollen Bandsound. Stilistisch realisieren »Mehr Als Wir« eine Durchmischung von Pop\, Jazz\, EDM und akustischer Weltmusik. \nTrotz diverser Abstecher in die Ernsthaftigkeiten des Lebens macht die Musik der Band einfach Freude. Die Stücke sind voll von Wendungen und Überraschungen. Wie Bilder auf Fotopapier in einer Dunkelkammer entwickeln sich ihre Lieder – um zu bleiben. \n»Mehr Als Wir« machen Instrumentalmusik. Nicht ohne bei ihren Konzerten die den Stücken zugrundeliegenden – teils opulenten – Geschichten zu erzählen und akustisch auszumalen. (Quelle: https://mehralswir.de/) \nEintritt: 12 € / erm. 8 €
URL:http://artkapella.de/event/konzert-mit-mehr-als-wir/
LOCATION:art Kapella Schkeuditz\, Teichstraße 7\, Schkeuditz\, Sachsen\, 04435\, Deutschland
CATEGORIES:Kabarett,Konzert,Musik,Musik
ATTACH;FMTTYPE=image/jpeg:http://artkapella.de/wp-content/uploads/2024/05/MAW_Plakat_WEB.jpg
ORGANIZER;CN="art Kapella Schkeuditz e. V.":MAILTO:info@artkapella.de
END:VEVENT
END:VCALENDAR