BEGIN:VCALENDAR
VERSION:2.0
PRODID:-//art Kapella Schkeuditz - ECPv6.15.20//NONSGML v1.0//EN
CALSCALE:GREGORIAN
METHOD:PUBLISH
X-WR-CALNAME:art Kapella Schkeuditz
X-ORIGINAL-URL:http://artkapella.de
X-WR-CALDESC:Veranstaltungen für art Kapella Schkeuditz
REFRESH-INTERVAL;VALUE=DURATION:PT1H
X-Robots-Tag:noindex
X-PUBLISHED-TTL:PT1H
BEGIN:VTIMEZONE
TZID:UTC
BEGIN:STANDARD
TZOFFSETFROM:+0000
TZOFFSETTO:+0000
TZNAME:UTC
DTSTART:20230101T000000
END:STANDARD
END:VTIMEZONE
BEGIN:VEVENT
DTSTART;TZID=UTC:20240602T140000
DTEND;TZID=UTC:20240602T153000
DTSTAMP:20260423T144410
CREATED:20240528T190627Z
LAST-MODIFIED:20240528T190627Z
UID:5076-1717336800-1717342200@artkapella.de
SUMMARY:Finissage & Verleihung des 17. ISOLDE-HAMM-PREISES
DESCRIPTION:Ausstellung »Lebenslinien«\nAusstellung zum 85. Geburtstag\nder Stifterin Isolde Hamm (1939-2006) \nMit Werken von:\nIsolde Hamm\, Mirette Bakir\,  Sylvia Gerlach\, Doreen Grün \nMitwirkende: \nBegrüßung: Birgit Höppner-Böhme\, Kuratoriumsmitglied der ISOLDE-HAMM-STIFTUNG /// Laudatorin\, Carmen Blazejewski\, Schriftstellerin\, Filmschaffende angefragt\nPreisträgerin\, Ursula Bahr\, Malerin und Grafikerin\nSabrina Schleußner\, Musikerin\, Bühnenkünstlerin und Tontechnikerin
URL:http://artkapella.de/event/finissage-isolde-hamm-preises/
LOCATION:Sachsen
CATEGORIES:Ausstellung,Bildende Kunst,Musik,Special
ORGANIZER;CN="art Kapella Schkeuditz e. V.":MAILTO:info@artkapella.de
END:VEVENT
BEGIN:VEVENT
DTSTART;TZID=UTC:20240609T140000
DTEND;TZID=UTC:20240609T153000
DTSTAMP:20260423T144410
CREATED:20240528T191724Z
LAST-MODIFIED:20240528T200218Z
UID:5082-1717941600-1717947000@artkapella.de
SUMMARY:Vernissage: Fatma Güdü – »Grübeln über Bäume«
DESCRIPTION:Neue Ausstellung mit Malerei von \nFatma Güdü\nDie aktuelle Ausstellung in der Galerie art Kapella Schkeuditz zeigt eine große Auswahl der Werke von Fatma Güdü. Ihre Werke sind mit Menschen\, Tieren und Natur belebt\, die sie ohne Vorzeichnung auf Leinwände bringt. Sie spiegeln selbstbewusste Frauen\, deren emotionaler Ausdruck durch die betonte Mimik hervorgehoben werden.  Sie lebt und arbeitet in Nürnberg. \n 
URL:http://artkapella.de/event/vernissage-gruebeln-ueber-baeume/
LOCATION:art Kapella Schkeuditz\, Teichstraße 7\, Schkeuditz\, Sachsen\, 04435\, Deutschland
CATEGORIES:Ausstellung,Bildende Kunst
ATTACH;FMTTYPE=image/jpeg:http://artkapella.de/wp-content/uploads/2024/05/GruebelnueberBaeume_170x210.jpg
ORGANIZER;CN="art Kapella Schkeuditz e. V.":MAILTO:info@artkapella.de
END:VEVENT
END:VCALENDAR