BEGIN:VCALENDAR
VERSION:2.0
PRODID:-//art Kapella Schkeuditz - ECPv6.15.20//NONSGML v1.0//EN
CALSCALE:GREGORIAN
METHOD:PUBLISH
X-ORIGINAL-URL:http://artkapella.de
X-WR-CALDESC:Veranstaltungen für art Kapella Schkeuditz
REFRESH-INTERVAL;VALUE=DURATION:PT1H
X-Robots-Tag:noindex
X-PUBLISHED-TTL:PT1H
BEGIN:VTIMEZONE
TZID:UTC
BEGIN:STANDARD
TZOFFSETFROM:+0000
TZOFFSETTO:+0000
TZNAME:UTC
DTSTART:20230101T000000
END:STANDARD
END:VTIMEZONE
BEGIN:VEVENT
DTSTART;TZID=UTC:20240303T140000
DTEND;TZID=UTC:20240303T160000
DTSTAMP:20260423T062811
CREATED:20240221T201338Z
LAST-MODIFIED:20240301T203915Z
UID:4944-1709474400-1709481600@artkapella.de
SUMMARY:Vernissage »Peter Sylvester«
DESCRIPTION:»Peter Sylvester (1937 – 2007)« – Das Druckgrafische Werk – Weltlandschaften und Zeitenräume\nDer Kurator der Ausstellung\, Knut Müller ist Bildender Künstler und Komponist. Steffen Schleiermacher wird zur Vernissage Knut Müllers Komposition »Ekhidna« für Klavier solo (2004) und seine eigene Komposition »Stillleben – Hommage à Max Beckmann« (2021) am Flügel zur Aufführung bringen.\nWir danken: Helga Sylvester und Alexander Sylvester \nAusstellungszeitraum: 3. März bis 12. April 2024
URL:http://artkapella.de/event/vernissage-peter-sylvester/
LOCATION:art Kapella Schkeuditz\, Teichstraße 7\, Schkeuditz\, Sachsen\, 04435\, Deutschland
CATEGORIES:Ausstellung,Bildende Kunst
ATTACH;FMTTYPE=image/jpeg:http://artkapella.de/wp-content/uploads/2024/02/80_web.jpg
ORGANIZER;CN="art Kapella Schkeuditz e. V.":MAILTO:info@artkapella.de
END:VEVENT
END:VCALENDAR